BEGIN:VCALENDAR
VERSION:2.0
PRODID:-//wp-events-plugin.com//7.2.3.1//EN
TZID:Europe/Berlin
X-WR-TIMEZONE:Europe/Berlin
BEGIN:VEVENT
UID:19@wsv-moers.de
DTSTART;TZID=Europe/Berlin:20230819T130000
DTEND;TZID=Europe/Berlin:20230819T235900
DTSTAMP:20230806T073127Z
URL:https://wsv-moers.de/events/50-jahre-wsv-moers/
SUMMARY:50 Jahre WSV-Moers
DESCRIPTION:Vor 50 Jahren wurde unser Verein vom Wildwasser-Weltmeister Let
 tmann gegründet. Seit dem hat sich viel getan\, viel geändert\, viel ist
  geblieben.\n\nWir wollen unser 50jähriges Jubiläum Feiern. Wir planen g
 anz fleißig. Es wird viele Aktionen geben. Sei gespannt. Block dir schon 
 mal den Termin\n\n&nbsp\;\n\nDer Grobe zeitliche Ablauf:\n\n\n\nZeiten  
         von\nbis\nAktion\n\n\n13:00\n\nEinlass\n\n\n13:30\n13:45\nE
 röffnungsrede Frau van Dyk\n\n\n13:45\n14:00\nEröffnungsrede 1. Vorsitze
 nde\n\n\n14:00\n14:30\nEhrung Jubilare\n\n\nnach Eröffnungsrede\n\nGeocac
 hing\n\n\n15:00\n\nÖffnung Grillstand und Kuchenstand\n\n\n15:00\n21:00\n
 Schnupperpaddeln\n\n\ngegen 16:00\n17:00\nSchnupper SUP\n\n\nab 18:00\n19:
 00\nfortgeschrittenen Yoga\n\n\n17:00\n18:00\nSchnupper Yoga\n\n\n17:00\n1
 8:00\nSchnupperpaddel Pause\n\n\n18:00\n19:00\nRennen\n\n\n\n&nbsp\;
ATTACH;FMTTYPE=image/jpeg:https://wsv-moers.de/wp-content/uploads/2023/06/
 50-Jahre-Plakat.png
LOCATION:WSV-Moers\, Waldstr. 115\, Moers\, Nordrhein-Westfalen\, 47447\, D
 eutschland
X-APPLE-STRUCTURED-LOCATION;VALUE=URI;X-ADDRESS=Waldstr. 115\, Moers\, Nord
 rhein-Westfalen\, 47447\, Deutschland;X-APPLE-RADIUS=100;X-TITLE=WSV-Moers
 :geo:0,0
END:VEVENT
BEGIN:VTIMEZONE
TZID:Europe/Berlin
X-LIC-LOCATION:Europe/Berlin
BEGIN:DAYLIGHT
DTSTART:20230326T030000
TZOFFSETFROM:+0100
TZOFFSETTO:+0200
TZNAME:CEST
END:DAYLIGHT
END:VTIMEZONE
END:VCALENDAR