BEGIN:VCALENDAR
VERSION:2.0
PRODID:-//wp-events-plugin.com//7.2.3.1//EN
TZID:Europe/Berlin
X-WR-TIMEZONE:Europe/Berlin
BEGIN:VEVENT
UID:33@wsv-moers.de
DTSTART;TZID=Europe/Berlin:20240907T100000
DTEND;TZID=Europe/Berlin:20240907T140000
DTSTAMP:20231206T082946Z
URL:https://wsv-moers.de/events/arbeitstag-4/
SUMMARY:Arbeitstag
DESCRIPTION:Ein Arbeitstag für alle Vereinsmitglieder.\n\nDenkt daran\, di
 e Vereinsgebühr kann nur langfristig günstig bleiben\, wenn wir bei klei
 neren Reparaturen\, Erneuerungen und Optimierungen selber aktiv werden. M
 üssen wir für alles Handwerker beauftragen\, wird die Jahresgebühr lang
 fristig zwangsläufig teurer. Jede Hilfe bringt uns weiter und wenn es sel
 bst gebackene Kekse zur Motivation am Arbeitstag sind :-)
ATTACH;FMTTYPE=image/jpeg:https://wsv-moers.de/wp-content/uploads/2023/04/
 handschuhkl-scaled.jpg
CATEGORIES:Arbeitstag
END:VEVENT
BEGIN:VTIMEZONE
TZID:Europe/Berlin
X-LIC-LOCATION:Europe/Berlin
BEGIN:DAYLIGHT
DTSTART:20240331T030000
TZOFFSETFROM:+0100
TZOFFSETTO:+0200
TZNAME:CEST
END:DAYLIGHT
END:VTIMEZONE
END:VCALENDAR