BEGIN:VCALENDAR
VERSION:2.0
PRODID:-//wp-events-plugin.com//7.2.3.1//EN
TZID:Europe/Berlin
X-WR-TIMEZONE:Europe/Berlin
BEGIN:VEVENT
UID:182@wsv-moers.de
DTSTART;TZID=Europe/Berlin:20260119T180000
DTEND;TZID=Europe/Berlin:20260323T200000
DTSTAMP:20260107T085935Z
URL:https://wsv-moers.de/events/singen-nicht-schoen-aber-geil-und-laut/
SUMMARY:Singen - Nicht schön\, aber geil und laut
DESCRIPTION:Gemeinsam Singen im Vereinsheim. Ihr müsst nicht gut sein\, so
 ndern einfach Spaß am Singen haben. Kommt gerne spontan vorbei.
END:VEVENT
BEGIN:VTIMEZONE
TZID:Europe/Berlin
X-LIC-LOCATION:Europe/Berlin
BEGIN:STANDARD
DTSTART:20251026T020000
TZOFFSETFROM:+0200
TZOFFSETTO:+0100
TZNAME:CET
END:STANDARD
END:VTIMEZONE
END:VCALENDAR