BEGIN:VCALENDAR
VERSION:2.0
PRODID:-//wp-events-plugin.com//7.2.3.1//EN
TZID:Europe/Berlin
X-WR-TIMEZONE:Europe/Berlin
BEGIN:VEVENT
UID:26@wsv-moers.de
DTSTART;TZID=Europe/Berlin:20231021T150000
DTEND;TZID=Europe/Berlin:20231021T180000
DTSTAMP:20231016T092347Z
URL:https://wsv-moers.de/events/spiele-nachmittag-3/
SUMMARY:Spiele-Nachmittag
DESCRIPTION:Neue Brettspiele kennenlernen oder alte Brettspiele mal wieder 
 spielen!\n\nSpieletreff für alle die Lust auf Brettspiele oder Kartenspie
 le haben. Wir werden einige Spiele mitbringen. Gerne dürft ihr Euer Liebl
 ingsspiel mitbringen. Gäste dürfen in Begleitung eines Vereinsmitgliedes
  mitgebracht werden. Wir freuen uns auf Euch.\n\nTreffpunkt: Vereinsheim\
 , WSV Moers\n\n&nbsp\;
ATTACH;FMTTYPE=image/jpeg:https://wsv-moers.de/wp-content/uploads/2023/10/
 game-340574_1280.jpg
END:VEVENT
BEGIN:VTIMEZONE
TZID:Europe/Berlin
X-LIC-LOCATION:Europe/Berlin
BEGIN:DAYLIGHT
DTSTART:20230326T030000
TZOFFSETFROM:+0100
TZOFFSETTO:+0200
TZNAME:CEST
END:DAYLIGHT
END:VTIMEZONE
END:VCALENDAR