BEGIN:VCALENDAR
VERSION:2.0
PRODID:-//wp-events-plugin.com//7.2.3.1//EN
TZID:Europe/Berlin
X-WR-TIMEZONE:Europe/Berlin
BEGIN:VEVENT
UID:217@wsv-moers.de
DTSTART;TZID=Europe/Berlin:20260611T000000
DTEND;TZID=Europe/Berlin:20260614T000000
DTSTAMP:20260107T092444Z
URL:https://wsv-moers.de/events/wochenende-wandertour-vermutlich-biesbosch
 /
SUMMARY:Wochenende-Wandertour: Vermutlich Biesbosch
DESCRIPTION:Wer an dieses Tour teilnimmt\, ist Alpha-Tester. Paddelerfahrun
 g wir erwartet. Vermutlich geht es zum Biesbosch. Wir wollen schon Donners
 tags-Abends anreisen. Der Freitag ist ein normaler Wochentag\, berücksich
 tigt dies bitte bei der Planung. Anmeldungen bis zum 05.06.2026 an Rüdige
 r
END:VEVENT
BEGIN:VTIMEZONE
TZID:Europe/Berlin
X-LIC-LOCATION:Europe/Berlin
BEGIN:DAYLIGHT
DTSTART:20260329T030000
TZOFFSETFROM:+0100
TZOFFSETTO:+0200
TZNAME:CEST
END:DAYLIGHT
END:VTIMEZONE
END:VCALENDAR